BEGIN:VCALENDAR
VERSION:2.0
PRODID:-//hacksw/handcal//NONSGML v1.0//EN
CALSCALE:GREGORIAN
BEGIN:VEVENT
DTSTART:20140521T081500Z
DTEND:20140521T090000Z
UID:e14821
DTSTAMP:20260424T223641Z
LOCATION:Nella and Leon Benoziyo Physics Building
DESCRIPTION:Dust formation in the Universe
SUMMARY:Dust formation in the Universe
END:VEVENT
END:VCALENDAR