BEGIN:VCALENDAR
VERSION:2.0
PRODID:-//hacksw/handcal//NONSGML v1.0//EN
CALSCALE:GREGORIAN
BEGIN:VEVENT
DTSTART:20140619T080500Z
DTEND:20140619T080500Z
UID:e14823
DTSTAMP:20260425T195645Z
LOCATION:Jacob Ziskind Building
DESCRIPTION:On random interlacements and the Gaussian free field 
SUMMARY:On random interlacements and the Gaussian free field 
END:VEVENT
END:VCALENDAR