BEGIN:VCALENDAR
VERSION:2.0
PRODID:-//hacksw/handcal//NONSGML v1.0//EN
CALSCALE:GREGORIAN
BEGIN:VEVENT
DTSTART:20140623T113000Z
DTEND:20140623T113000Z
UID:e14834
DTSTAMP:20260425T234747Z
LOCATION:Jacob Ziskind Building
DESCRIPTION:A sampling-based proof of the quasipolynomial Freiman-Ruzsa theorem and algorithmic applications
SUMMARY:A sampling-based proof of the quasipolynomial Freiman-Ruzsa theorem and algorithmic applications
END:VEVENT
END:VCALENDAR