BEGIN:VCALENDAR
VERSION:2.0
PRODID:-//hacksw/handcal//NONSGML v1.0//EN
CALSCALE:GREGORIAN
BEGIN:VEVENT
DTSTART:20140602T083000Z
DTEND:20140602T083000Z
UID:e14838
DTSTAMP:20260425T234751Z
LOCATION:Ullmann Building of Life Sciences
DESCRIPTION:Tipping the Balance : Cell Death Control in Plant-Pathogen Interactions
SUMMARY:Tipping the Balance : Cell Death Control in Plant-Pathogen Interactions
END:VEVENT
END:VCALENDAR