BEGIN:VCALENDAR
VERSION:2.0
PRODID:-//hacksw/handcal//NONSGML v1.0//EN
CALSCALE:GREGORIAN
BEGIN:VEVENT
DTSTART:20140605T110000Z
DTEND:20140605T120000Z
UID:e14839
DTSTAMP:20260425T195650Z
LOCATION:Helen and Milton A. Kimmelman Building
DESCRIPTION:Conformational control of neurotransmitter biosynthesis
SUMMARY:Conformational control of neurotransmitter biosynthesis
END:VEVENT
END:VCALENDAR