BEGIN:VCALENDAR
VERSION:2.0
PRODID:-//hacksw/handcal//NONSGML v1.0//EN
CALSCALE:GREGORIAN
BEGIN:VEVENT
DTSTART:20140610T110000Z
DTEND:20140610T120000Z
UID:e14840
DTSTAMP:20260425T225310Z
LOCATION:Helen and Milton A. Kimmelman Building
DESCRIPTION:Functional and evolutionary insight from the crystal structure of glycoprotein C from Rift Valley fever virus
SUMMARY:Functional and evolutionary insight from the crystal structure of glycoprotein C from Rift Valley fever virus
END:VEVENT
END:VCALENDAR