BEGIN:VCALENDAR
VERSION:2.0
PRODID:-//hacksw/handcal//NONSGML v1.0//EN
CALSCALE:GREGORIAN
BEGIN:VEVENT
DTSTART:20140626T110000Z
DTEND:20140626T120000Z
UID:e14842
DTSTAMP:20260425T234747Z
LOCATION:Arthur and Rochelle Belfer Building for Biomedical Research
DESCRIPTION:Converting a GPCR from a threshold sensor to a rheostat: How the melanocortin-4 receptor controls energy homeostasis
SUMMARY:Converting a GPCR from a threshold sensor to a rheostat: How the melanocortin-4 receptor controls energy homeostasis
END:VEVENT
END:VCALENDAR