BEGIN:VCALENDAR
VERSION:2.0
PRODID:-//hacksw/handcal//NONSGML v1.0//EN
CALSCALE:GREGORIAN
BEGIN:VEVENT
DTSTART:20140605T080500Z
DTEND:20140605T080500Z
UID:e14843
DTSTAMP:20260425T182719Z
LOCATION:Jacob Ziskind Building
DESCRIPTION:Clock processes on infinite graphs  and aging in Bouchaud's asymmetric trap model
SUMMARY:Clock processes on infinite graphs  and aging in Bouchaud's asymmetric trap model
END:VEVENT
END:VCALENDAR