BEGIN:VCALENDAR
VERSION:2.0
PRODID:-//hacksw/handcal//NONSGML v1.0//EN
CALSCALE:GREGORIAN
BEGIN:VEVENT
DTSTART:20140609T080000Z
DTEND:20140609T093000Z
UID:e14847
DTSTAMP:20260425T195651Z
LOCATION:Gerhard M.J. Schmidt Lecture Hall
DESCRIPTION:"Supramolecular Spintronic Quantum Devices"
SUMMARY:"Supramolecular Spintronic Quantum Devices"
END:VEVENT
END:VCALENDAR