BEGIN:VCALENDAR
VERSION:2.0
PRODID:-//hacksw/handcal//NONSGML v1.0//EN
CALSCALE:GREGORIAN
BEGIN:VEVENT
DTSTART:20140629T080000Z
DTEND:20140629T080000Z
UID:e14850
DTSTAMP:20260425T234726Z
LOCATION:Dolfi and Lola Ebner Auditorium
DESCRIPTION:"Analysis and design of proton transporters"
SUMMARY:"Analysis and design of proton transporters"
END:VEVENT
END:VCALENDAR