BEGIN:VCALENDAR
VERSION:2.0
PRODID:-//hacksw/handcal//NONSGML v1.0//EN
CALSCALE:GREGORIAN
BEGIN:VEVENT
DTSTART:20140610T080000Z
DTEND:20140610T080000Z
UID:e14851
DTSTAMP:20260425T225301Z
LOCATION:Helen and Milton A. Kimmelman Building
DESCRIPTION:N2 Cleavage and NH3 Activation by Surface Organometallic Chemistry on silica: Mechanistic Relevance of Metal-hydride Bonds and H2 Heterolytic Splitting
SUMMARY:N2 Cleavage and NH3 Activation by Surface Organometallic Chemistry on silica: Mechanistic Relevance of Metal-hydride Bonds and H2 Heterolytic Splitting
END:VEVENT
END:VCALENDAR