BEGIN:VCALENDAR
VERSION:2.0
PRODID:-//hacksw/handcal//NONSGML v1.0//EN
CALSCALE:GREGORIAN
BEGIN:VEVENT
DTSTART:20140615T120000Z
DTEND:20140615T130000Z
UID:e14858
DTSTAMP:20260425T225253Z
LOCATION:Arthur and Rochelle Belfer Building for Biomedical Research
DESCRIPTION:Epidemiological research in Non-Alcoholic Fatty Liver Disease  (NAFLD)
SUMMARY:Epidemiological research in Non-Alcoholic Fatty Liver Disease  (NAFLD)
END:VEVENT
END:VCALENDAR