BEGIN:VCALENDAR
VERSION:2.0
PRODID:-//hacksw/handcal//NONSGML v1.0//EN
CALSCALE:GREGORIAN
BEGIN:VEVENT
DTSTART:20140610T130000Z
DTEND:20140610T130000Z
UID:e14859
DTSTAMP:20260425T225312Z
LOCATION:Jacob Ziskind Building
DESCRIPTION:On the log Minimal Model Program in dimension two and its application to the Coolidge-Nagata problem
SUMMARY:On the log Minimal Model Program in dimension two and its application to the Coolidge-Nagata problem
END:VEVENT
END:VCALENDAR