BEGIN:VCALENDAR
VERSION:2.0
PRODID:-//hacksw/handcal//NONSGML v1.0//EN
CALSCALE:GREGORIAN
BEGIN:VEVENT
DTSTART:20140617T103000Z
DTEND:20140617T113000Z
UID:e14869
DTSTAMP:20260425T195644Z
LOCATION:Wolfson Building for Biological Research
DESCRIPTION:"Visualization of platelet production in physiological context?"
SUMMARY:"Visualization of platelet production in physiological context?"
END:VEVENT
END:VCALENDAR