BEGIN:VCALENDAR
VERSION:2.0
PRODID:-//hacksw/handcal//NONSGML v1.0//EN
CALSCALE:GREGORIAN
BEGIN:VEVENT
DTSTART:20140611T080000Z
DTEND:20140611T093000Z
UID:e14871
DTSTAMP:20260425T225320Z
LOCATION:Perlman Chemical Sciences Building
DESCRIPTION:Special seminar - "Plasmons\, Hot Electrons and Photocatalysis"
SUMMARY:Special seminar - "Plasmons\, Hot Electrons and Photocatalysis"
END:VEVENT
END:VCALENDAR