BEGIN:VCALENDAR
VERSION:2.0
PRODID:-//hacksw/handcal//NONSGML v1.0//EN
CALSCALE:GREGORIAN
BEGIN:VEVENT
DTSTART:20140618T060000Z
DTEND:20140618T090000Z
UID:e14873
DTSTAMP:20260425T195708Z
LOCATION:Gerhard M.J. Schmidt Lecture Hall
DESCRIPTION:Recent advances in Imaging Flow Cytometry - The 2nd Israeli ImagestreamX user meeting
SUMMARY:Recent advances in Imaging Flow Cytometry - The 2nd Israeli ImagestreamX user meeting
END:VEVENT
END:VCALENDAR