BEGIN:VCALENDAR
VERSION:2.0
PRODID:-//hacksw/handcal//NONSGML v1.0//EN
CALSCALE:GREGORIAN
BEGIN:VEVENT
DTSTART:20140608T063000Z
DTEND:20140608T063000Z
UID:e14874
DTSTAMP:20260425T195655Z
LOCATION:Ullmann Building of Life Sciences
DESCRIPTION:Sequence-based genetic mapping in barley: applications to genome assembly and gene isolation
SUMMARY:Sequence-based genetic mapping in barley: applications to genome assembly and gene isolation
END:VEVENT
END:VCALENDAR