BEGIN:VCALENDAR
VERSION:2.0
PRODID:-//hacksw/handcal//NONSGML v1.0//EN
CALSCALE:GREGORIAN
BEGIN:VEVENT
DTSTART:20140612T073000Z
DTEND:20140612T073000Z
UID:e14875
DTSTAMP:20260425T234752Z
LOCATION:Jacob Ziskind Building
DESCRIPTION:On the Stability and Gelfand property of Symmetric Pairs 
SUMMARY:On the Stability and Gelfand property of Symmetric Pairs 
END:VEVENT
END:VCALENDAR