BEGIN:VCALENDAR
VERSION:2.0
PRODID:-//hacksw/handcal//NONSGML v1.0//EN
CALSCALE:GREGORIAN
BEGIN:VEVENT
DTSTART:20140624T110000Z
DTEND:20140624T113000Z
UID:e14887
DTSTAMP:20260425T204352Z
LOCATION:Wolfson Building for Biological Research
DESCRIPTION:"Multi-Epitope-Targeting&#8221\; Approach to Immune-Specific Therapy for Type 1 Diabetes
SUMMARY:"Multi-Epitope-Targeting&#8221\; Approach to Immune-Specific Therapy for Type 1 Diabetes
END:VEVENT
END:VCALENDAR