BEGIN:VCALENDAR
VERSION:2.0
PRODID:-//hacksw/handcal//NONSGML v1.0//EN
CALSCALE:GREGORIAN
BEGIN:VEVENT
DTSTART:20140630T113000Z
DTEND:20140630T113000Z
UID:e14888
DTSTAMP:20260425T234716Z
LOCATION:Jacob Ziskind Building
DESCRIPTION:Cops\, Robbers\, and Threatening Skeletons: Padded Decomposition for Minor-Free Graphs
SUMMARY:Cops\, Robbers\, and Threatening Skeletons: Padded Decomposition for Minor-Free Graphs
END:VEVENT
END:VCALENDAR