BEGIN:VCALENDAR
VERSION:2.0
PRODID:-//hacksw/handcal//NONSGML v1.0//EN
CALSCALE:GREGORIAN
BEGIN:VEVENT
DTSTART:20140624T080000Z
DTEND:20140624T080000Z
UID:e14889
DTSTAMP:20260425T234731Z
LOCATION:Jacob Ziskind Building
DESCRIPTION:Lagrangian methods in Complex Fluids 
SUMMARY:Lagrangian methods in Complex Fluids 
END:VEVENT
END:VCALENDAR