BEGIN:VCALENDAR
VERSION:2.0
PRODID:-//hacksw/handcal//NONSGML v1.0//EN
CALSCALE:GREGORIAN
BEGIN:VEVENT
DTSTART:20140622T120000Z
DTEND:20140622T120000Z
UID:e14894
DTSTAMP:20260425T195814Z
LOCATION:Wolfson Building for Biological Research
DESCRIPTION:Modeling a NK cell based immunotherapy for pregnancy complications 
SUMMARY:Modeling a NK cell based immunotherapy for pregnancy complications 
END:VEVENT
END:VCALENDAR