BEGIN:VCALENDAR
VERSION:2.0
PRODID:-//hacksw/handcal//NONSGML v1.0//EN
CALSCALE:GREGORIAN
BEGIN:VEVENT
DTSTART:20140623T110000Z
DTEND:20140623T110000Z
UID:e14895
DTSTAMP:20260425T195646Z
LOCATION:Arthur and Rochelle Belfer Building for Biomedical Research
DESCRIPTION:Using 40 dimensions in single cells to map tumor heterogeneity and network function
SUMMARY:Using 40 dimensions in single cells to map tumor heterogeneity and network function
END:VEVENT
END:VCALENDAR