BEGIN:VCALENDAR
VERSION:2.0
PRODID:-//hacksw/handcal//NONSGML v1.0//EN
CALSCALE:GREGORIAN
BEGIN:VEVENT
DTSTART:20140617T081500Z
DTEND:20140617T081500Z
UID:e14898
DTSTAMP:20260425T195647Z
LOCATION:Ullmann Building of Life Sciences
DESCRIPTION:Integration of calcium and ROP signaling in regulation of auxin distribution
SUMMARY:Integration of calcium and ROP signaling in regulation of auxin distribution
END:VEVENT
END:VCALENDAR