BEGIN:VCALENDAR
VERSION:2.0
PRODID:-//hacksw/handcal//NONSGML v1.0//EN
CALSCALE:GREGORIAN
BEGIN:VEVENT
DTSTART:20140626T090000Z
DTEND:20140626T090000Z
UID:e14900
DTSTAMP:20260425T234712Z
LOCATION:Jacob Ziskind Building
DESCRIPTION:Efficient Coding vs. Efficient Reconstruction in the Visual Cortex
SUMMARY:Efficient Coding vs. Efficient Reconstruction in the Visual Cortex
END:VEVENT
END:VCALENDAR