BEGIN:VCALENDAR
VERSION:2.0
PRODID:-//hacksw/handcal//NONSGML v1.0//EN
CALSCALE:GREGORIAN
BEGIN:VEVENT
DTSTART:20140624T093000Z
DTEND:20140624T093000Z
UID:e14904
DTSTAMP:20260425T195708Z
LOCATION:Gerhard M.J. Schmidt Lecture Hall
DESCRIPTION:How much information can a population of neurons transmit to its target?
SUMMARY:How much information can a population of neurons transmit to its target?
END:VEVENT
END:VCALENDAR