BEGIN:VCALENDAR
VERSION:2.0
PRODID:-//hacksw/handcal//NONSGML v1.0//EN
CALSCALE:GREGORIAN
BEGIN:VEVENT
DTSTART:20140701T080000Z
DTEND:20140701T080000Z
UID:e14926
DTSTAMP:20260425T234753Z
LOCATION:Jacob Ziskind Building
DESCRIPTION:Local well-posedness for the  minimal  surface equation in Minkowski space
SUMMARY:Local well-posedness for the  minimal  surface equation in Minkowski space
END:VEVENT
END:VCALENDAR