BEGIN:VCALENDAR
VERSION:2.0
PRODID:-//hacksw/handcal//NONSGML v1.0//EN
CALSCALE:GREGORIAN
BEGIN:VEVENT
DTSTART:20141214T050000Z
DTEND:20141214T190000Z
UID:e14978
DTSTAMP:20260422T145013Z
LOCATION:The David Lopatie Conference Centre
DESCRIPTION:Michael Sela's 90th birthday Symposium 
SUMMARY:Michael Sela's 90th birthday Symposium 
END:VEVENT
END:VCALENDAR