BEGIN:VCALENDAR
VERSION:2.0
PRODID:-//hacksw/handcal//NONSGML v1.0//EN
CALSCALE:GREGORIAN
BEGIN:VEVENT
DTSTART:19691231T160000Z
DTEND:19691231T160000Z
UID:e14979
DTSTAMP:20260421T085044Z
LOCATION:The David Lopatie Conference Centre
DESCRIPTION:Conference for high school biology teachers
SUMMARY:Conference for high school biology teachers
END:VEVENT
END:VCALENDAR