BEGIN:VCALENDAR
VERSION:2.0
PRODID:-//hacksw/handcal//NONSGML v1.0//EN
CALSCALE:GREGORIAN
BEGIN:VEVENT
DTSTART:20141216T090000Z
DTEND:20141216T090000Z
UID:e15004
DTSTAMP:20260423T044707Z
LOCATION:Dolfi and Lola Ebner Auditorium
DESCRIPTION:Can you take the ant out of the nest? 
SUMMARY:Can you take the ant out of the nest? 
END:VEVENT
END:VCALENDAR