BEGIN:VCALENDAR
VERSION:2.0
PRODID:-//hacksw/handcal//NONSGML v1.0//EN
CALSCALE:GREGORIAN
BEGIN:VEVENT
DTSTART:19691231T160000Z
DTEND:19691231T160000Z
UID:e15032
DTSTAMP:20260420T122246Z
LOCATION:The David Lopatie Conference Centre
DESCRIPTION:Peroxisomes in health and disease
SUMMARY:Peroxisomes in health and disease
END:VEVENT
END:VCALENDAR