BEGIN:VCALENDAR
VERSION:2.0
PRODID:-//hacksw/handcal//NONSGML v1.0//EN
CALSCALE:GREGORIAN
BEGIN:VEVENT
DTSTART:20141201T110000Z
DTEND:20141201T123000Z
UID:e15038
DTSTAMP:20260423T084816Z
LOCATION:Camelia Botnar Building
DESCRIPTION:The mechanisms and functions of RIPK3 in inflammatory diseases  
SUMMARY:The mechanisms and functions of RIPK3 in inflammatory diseases  
END:VEVENT
END:VCALENDAR