BEGIN:VCALENDAR
VERSION:2.0
PRODID:-//hacksw/handcal//NONSGML v1.0//EN
CALSCALE:GREGORIAN
BEGIN:VEVENT
DTSTART:20141127T173000Z
DTEND:20141127T193000Z
UID:e15043
DTSTAMP:20260423T005204Z
LOCATION:Dolfi and Lola Ebner Auditorium
DESCRIPTION:"Sky  lightning \, Human prayer "
SUMMARY:"Sky  lightning \, Human prayer "
END:VEVENT
END:VCALENDAR