BEGIN:VCALENDAR
VERSION:2.0
PRODID:-//hacksw/handcal//NONSGML v1.0//EN
CALSCALE:GREGORIAN
BEGIN:VEVENT
DTSTART:20150625T120000Z
DTEND:20150625T120000Z
UID:e15083
DTSTAMP:20260423T155427Z
LOCATION:Dolfi and Lola Ebner Auditorium
DESCRIPTION:Life Science Lecture - Prof. Irit Sagi 
SUMMARY:Life Science Lecture - Prof. Irit Sagi 
END:VEVENT
END:VCALENDAR