BEGIN:VCALENDAR
VERSION:2.0
PRODID:-//hacksw/handcal//NONSGML v1.0//EN
CALSCALE:GREGORIAN
BEGIN:VEVENT
DTSTART:19691231T160000Z
DTEND:19691231T160000Z
UID:e15101
DTSTAMP:20260419T140657Z
LOCATION:The David Lopatie Conference Centre
DESCRIPTION:Numerical Methods and Applied Geometry
SUMMARY:Numerical Methods and Applied Geometry
END:VEVENT
END:VCALENDAR