BEGIN:VCALENDAR
VERSION:2.0
PRODID:-//hacksw/handcal//NONSGML v1.0//EN
CALSCALE:GREGORIAN
BEGIN:VEVENT
DTSTART:20141217T070000Z
DTEND:20141217T073000Z
UID:e15114
DTSTAMP:20260423T044645Z
LOCATION:Gerhard M.J. Schmidt Lecture Hall
DESCRIPTION:High resolution mapping of bimolecular properties
SUMMARY:High resolution mapping of bimolecular properties
END:VEVENT
END:VCALENDAR