BEGIN:VCALENDAR
VERSION:2.0
PRODID:-//hacksw/handcal//NONSGML v1.0//EN
CALSCALE:GREGORIAN
BEGIN:VEVENT
DTSTART:20141217T073000Z
DTEND:20141217T080000Z
UID:e15115
DTSTAMP:20260423T044652Z
LOCATION:Gerhard M.J. Schmidt Lecture Hall
DESCRIPTION:The short chain fatty acid receptor GPR41 and its role in function of pancreatic beta cells
SUMMARY:The short chain fatty acid receptor GPR41 and its role in function of pancreatic beta cells
END:VEVENT
END:VCALENDAR