BEGIN:VCALENDAR
VERSION:2.0
PRODID:-//hacksw/handcal//NONSGML v1.0//EN
CALSCALE:GREGORIAN
BEGIN:VEVENT
DTSTART:20141201T170000Z
DTEND:20141201T190000Z
UID:e15133
DTSTAMP:20260422T144954Z
LOCATION:Michael Sela Auditorium
DESCRIPTION:Age of Bel Canto 
SUMMARY:Age of Bel Canto 
END:VEVENT
END:VCALENDAR