BEGIN:VCALENDAR
VERSION:2.0
PRODID:-//hacksw/handcal//NONSGML v1.0//EN
CALSCALE:GREGORIAN
BEGIN:VEVENT
DTSTART:20141212T080000Z
DTEND:20141212T100000Z
UID:e15136
DTSTAMP:20260422T144957Z
LOCATION:Michael Sela Auditorium
DESCRIPTION:Latin Fiesta 
SUMMARY:Latin Fiesta 
END:VEVENT
END:VCALENDAR