BEGIN:VCALENDAR
VERSION:2.0
PRODID:-//hacksw/handcal//NONSGML v1.0//EN
CALSCALE:GREGORIAN
BEGIN:VEVENT
DTSTART:20141201T091500Z
DTEND:20141201T091500Z
UID:e15141
DTSTAMP:20260423T120917Z
LOCATION:Arthur and Rochelle Belfer Building for Biomedical Research
DESCRIPTION:RNF20 links histone H2B ubiquitylation with inflammation and cancer
SUMMARY:RNF20 links histone H2B ubiquitylation with inflammation and cancer
END:VEVENT
END:VCALENDAR