BEGIN:VCALENDAR
VERSION:2.0
PRODID:-//hacksw/handcal//NONSGML v1.0//EN
CALSCALE:GREGORIAN
BEGIN:VEVENT
DTSTART:20141215T093000Z
DTEND:20141215T093000Z
UID:e15142
DTSTAMP:20260423T044650Z
LOCATION:Arthur and Rochelle Belfer Building for Biomedical Research
DESCRIPTION:Losing the brakes- The onset of p53 loss of heterozygosity in various stem cell types 
SUMMARY:Losing the brakes- The onset of p53 loss of heterozygosity in various stem cell types 
END:VEVENT
END:VCALENDAR