BEGIN:VCALENDAR
VERSION:2.0
PRODID:-//hacksw/handcal//NONSGML v1.0//EN
CALSCALE:GREGORIAN
BEGIN:VEVENT
DTSTART:20141215T110000Z
DTEND:20141215T110000Z
UID:e15179
DTSTAMP:20260423T120921Z
LOCATION:Max and Lillian Candiotty Building
DESCRIPTION:What's better than CRISPR?
SUMMARY:What's better than CRISPR?
END:VEVENT
END:VCALENDAR