BEGIN:VCALENDAR
VERSION:2.0
PRODID:-//hacksw/handcal//NONSGML v1.0//EN
CALSCALE:GREGORIAN
BEGIN:VEVENT
DTSTART:20141224T110000Z
DTEND:20141224T110000Z
UID:e15180
DTSTAMP:20260423T084735Z
LOCATION:Max and Lillian Candiotty Building
DESCRIPTION:Genetic and Epigenetic Determinants of Chronic Lymphocytic Leukemia Evolution
SUMMARY:Genetic and Epigenetic Determinants of Chronic Lymphocytic Leukemia Evolution
END:VEVENT
END:VCALENDAR