BEGIN:VCALENDAR
VERSION:2.0
PRODID:-//hacksw/handcal//NONSGML v1.0//EN
CALSCALE:GREGORIAN
BEGIN:VEVENT
DTSTART:20150104T080000Z
DTEND:20150104T080000Z
UID:e15190
DTSTAMP:20260423T145430Z
LOCATION:Sussman Family Building for Environmental Sciences
DESCRIPTION:Tropical Plumes over the Middle East: Climatology and synoptic conditions
SUMMARY:Tropical Plumes over the Middle East: Climatology and synoptic conditions
END:VEVENT
END:VCALENDAR