BEGIN:VCALENDAR
VERSION:2.0
PRODID:-//hacksw/handcal//NONSGML v1.0//EN
CALSCALE:GREGORIAN
BEGIN:VEVENT
DTSTART:20141202T080000Z
DTEND:20141202T080000Z
UID:e15215
DTSTAMP:20260422T145011Z
LOCATION:Jacob Ziskind Building
DESCRIPTION:Distribution of eigenvalues for some classes of operators in Banach space
SUMMARY:Distribution of eigenvalues for some classes of operators in Banach space
END:VEVENT
END:VCALENDAR