BEGIN:VCALENDAR
VERSION:2.0
PRODID:-//hacksw/handcal//NONSGML v1.0//EN
CALSCALE:GREGORIAN
BEGIN:VEVENT
DTSTART:20141203T070000Z
DTEND:20141203T070000Z
UID:e15218
DTSTAMP:20260422T145013Z
LOCATION:Arthur and Rochelle Belfer Building for Biomedical Research
DESCRIPTION:Epigenetic & Symbiotic Mechanisms of Adaptation to New Environments
SUMMARY:Epigenetic & Symbiotic Mechanisms of Adaptation to New Environments
END:VEVENT
END:VCALENDAR