BEGIN:VCALENDAR
VERSION:2.0
PRODID:-//hacksw/handcal//NONSGML v1.0//EN
CALSCALE:GREGORIAN
BEGIN:VEVENT
DTSTART:20141202T053000Z
DTEND:20141202T063000Z
UID:e15234
DTSTAMP:20260422T145003Z
LOCATION:Helen and Milton A. Kimmelman Building
DESCRIPTION:"Unraveling the mechanism of protein disaggregation through Methyl-TROSY NMR"
SUMMARY:"Unraveling the mechanism of protein disaggregation through Methyl-TROSY NMR"
END:VEVENT
END:VCALENDAR