BEGIN:VCALENDAR
VERSION:2.0
PRODID:-//hacksw/handcal//NONSGML v1.0//EN
CALSCALE:GREGORIAN
BEGIN:VEVENT
DTSTART:20141204T070000Z
DTEND:20141204T083000Z
UID:e15237
DTSTAMP:20260422T145010Z
LOCATION:Arthur and Rochelle Belfer Building for Biomedical Research
DESCRIPTION:G-INCPM special guest seminar - Inflammatory links between obesity and type 2 diabetes
SUMMARY:G-INCPM special guest seminar - Inflammatory links between obesity and type 2 diabetes
END:VEVENT
END:VCALENDAR