BEGIN:VCALENDAR
VERSION:2.0
PRODID:-//hacksw/handcal//NONSGML v1.0//EN
CALSCALE:GREGORIAN
BEGIN:VEVENT
DTSTART:20141130T100000Z
DTEND:20141130T100000Z
UID:e15243
DTSTAMP:20260423T084727Z
LOCATION:Arthur and Rochelle Belfer Building for Biomedical Research
DESCRIPTION:Metagenomics approach to study the ecology of coral reef fish larvae in the Red Sea
SUMMARY:Metagenomics approach to study the ecology of coral reef fish larvae in the Red Sea
END:VEVENT
END:VCALENDAR