BEGIN:VCALENDAR
VERSION:2.0
PRODID:-//hacksw/handcal//NONSGML v1.0//EN
CALSCALE:GREGORIAN
BEGIN:VEVENT
DTSTART:20141225T070000Z
DTEND:20141225T070000Z
UID:e15246
DTSTAMP:20260424T111014Z
LOCATION:Goldwurm Building
DESCRIPTION:Academic recruitments: Considerations and best practices addressing unconscious bias
SUMMARY:Academic recruitments: Considerations and best practices addressing unconscious bias
END:VEVENT
END:VCALENDAR